BEGIN:VCALENDAR
VERSION:2.0
PRODID:-//horsesense® experts - ECPv6.15.20//NONSGML v1.0//EN
CALSCALE:GREGORIAN
METHOD:PUBLISH
X-WR-CALNAME:horsesense® experts
X-ORIGINAL-URL:https://horsesense-training.de
X-WR-CALDESC:Veranstaltungen für horsesense® experts
REFRESH-INTERVAL;VALUE=DURATION:PT1H
X-Robots-Tag:noindex
X-PUBLISHED-TTL:PT1H
BEGIN:VTIMEZONE
TZID:Europe/Berlin
BEGIN:DAYLIGHT
TZOFFSETFROM:+0100
TZOFFSETTO:+0200
TZNAME:CEST
DTSTART:20250330T010000
END:DAYLIGHT
BEGIN:STANDARD
TZOFFSETFROM:+0200
TZOFFSETTO:+0100
TZNAME:CET
DTSTART:20251026T010000
END:STANDARD
BEGIN:DAYLIGHT
TZOFFSETFROM:+0100
TZOFFSETTO:+0200
TZNAME:CEST
DTSTART:20260329T010000
END:DAYLIGHT
BEGIN:STANDARD
TZOFFSETFROM:+0200
TZOFFSETTO:+0100
TZNAME:CET
DTSTART:20261025T010000
END:STANDARD
BEGIN:DAYLIGHT
TZOFFSETFROM:+0100
TZOFFSETTO:+0200
TZNAME:CEST
DTSTART:20270328T010000
END:DAYLIGHT
BEGIN:STANDARD
TZOFFSETFROM:+0200
TZOFFSETTO:+0100
TZNAME:CET
DTSTART:20271031T010000
END:STANDARD
BEGIN:DAYLIGHT
TZOFFSETFROM:+0100
TZOFFSETTO:+0200
TZNAME:CEST
DTSTART:20280326T010000
END:DAYLIGHT
BEGIN:STANDARD
TZOFFSETFROM:+0200
TZOFFSETTO:+0100
TZNAME:CET
DTSTART:20281029T010000
END:STANDARD
END:VTIMEZONE
BEGIN:VEVENT
DTSTART;VALUE=DATE:20260801
DTEND;VALUE=DATE:20270102
DTSTAMP:20260421T201507
CREATED:20260126T142700Z
LAST-MODIFIED:20260126T143343Z
UID:6879-1785567600-1798786799@horsesense-training.de
SUMMARY:Azubi-Parcours – Auszubildende stärken. Persönlichkeit entwickeln.
DESCRIPTION:Azubi-Parcours – Auszubildende stärken. Persönlichkeitentwickeln. \nPferdegestütztes Coaching für Auszubildende (hybrides Format) \nDer Azubi-Parcours begleitet Auszubildende praxisnah und nachhaltigdurch die Herausforderungen ihrer Ausbildung. In einem einzigartigenhybriden Coachingformat verbinden wir pferdegestützte Präsenzmodulemit digitaler Reflexion und nachhaltigem Transfer in den Ausbildungsalltag.Pferde wirken dabei als ehrliche Spiegel für Haltung\, Klarheit undKommunikation – und ermöglichen Lernen\, das nachhaltig wirkt. \nDas erwartet Dich:Inhalte & Ziele:– Motivation & Disziplin stärken\, Ziele erreichen– Verantwortung übernehmen & Selbstwirksamkeit erleben– Kommunikation verbessern & Konflikte konstruktiv lösen– Stress\, Frustration & Überforderung besser bewältigen– Resilienz stärken \nAblauf: \n– 6 pferdegestützte Präsenzmodule à 3 Stunden (14-tägig)– 1-stündiger Zoom-Call zwischen den Modulen zur Reflexion & Transfer– Abschluss-Call \nWarum Du dabei sein solltest:Azubi-Parcours – weil Ausbildung mehr ist als Fachwissen.Es geht um Haltung\, Beziehung\, Verantwortung und die Fähigkeit\, den eigenen Weg zu gehen. \nMehrwert für Betriebe:Stabile\, motivierte Azubis\, weniger Konflikte und eine höhereAusbildungsqualität. \nMethodischer Ansatz– Pferdegestütztes Coaching (horsesense®)– Systemisches & lösungsorientiertes Coaching– Erlebnispädagogik & neurobiologische Lernprinzipien– Positive Psychologie & Selbstwirksamkeitsforschung– Praxisnaher Transfer in den Ausbildungsalltag \nZielgruppe:– Auszubildende aller Berufsrichtungen– Betriebe\, die ihre Ausbildung + Auszubildenden nachhaltig stärken möchten– Ausbilder:innen\, die junge Menschen nicht nur fachlich\, sondernmenschlich begleiten wollen \nOrganisatorisches:Teilnehmerzahl: Minimum 4 Personen\, maximal 7 Personen\, um Zeit zuhaben\, in die Tiefe zu arbeiten. Voraussetzungen: Keine Pferdeerfahrung notwendig.Termin: wird individuell mit dem Unternehmen abgestimmtHybrides Gruppenformat: Präsenz 9.00 – 12.00h + Zoom 1 Std.14-tägig im WechselGebühr: individuelles Angebot \n\n\n\n\n\n\n\n\n\n\n\n\n\n\n\n\n\n\n\n\n\nJa\, ich möchte teilnehmen.\n\n\n\n\nZeitraum wählenAuf Anfrage (Ab August)\n\n\n \n\n\nNachricht senden\n\n\nBitte fülle dieses Feld nicht aus.
URL:https://horsesense-training.de/event/azubi-parcours/
LOCATION:horsesense®\, Hallstedt 21\, Bassum\, Niedersachsen\, 27211
CATEGORIES:Azubi Parcours
END:VEVENT
END:VCALENDAR